BEGIN:VCALENDAR
VERSION:2.0
PRODID:-//ChamberMaster//Event Calendar 2.0//EN
METHOD:PUBLISH
X-PUBLISHED-TTL:P3D
REFRESH-INTERVAL:P3D
CALSCALE:GREGORIAN
BEGIN:VEVENT
DTSTART:20250723T120000Z
DTEND:20250723T160000Z
X-MICROSOFT-CDO-ALLDAYEVENT:FALSE
SUMMARY:YP Day of Service: Beautify Clinton Elementary
DESCRIPTION:Join the Lancaster County Young Professionals for our Q3 event as we roll up our sleeves and serve our community!\n\n\n\nIn partnership with Lancaster Promise Neighborhood\, we're heading to Clinton Elementary School to help revitalize the campus with fresh landscaping\, painted basketball courts\, and more.\n\nWe're challenging local businesses to send just 2 employees to join the effort. Let's show the power of our professional community when we come together for a cause.\n\n  Date: Wednesday\, July 23rd\n\n  Time: 8:00 AM   12:00 PM (subject to final confirmation)\n\n  Perks: Breakfast provided!\n\nHelp us make a lasting impact on a school that serves our future leaders. This is your chance to give back and connect with others who care!
X-ALT-DESC;FMTTYPE=text/html:<p style="text-align: center\;"><span style="font-size:20px\;"><span style="color:#000000\;"><span style="font-family: arial\;">Join the Lancaster County Young Professionals for our Q3 event as we roll up our sleeves and </span><em data-end="333" data-start="326" style="font-family: arial\; font-size: 18px\;">serve</em><span style="font-family: arial\;"> our community!</span></span></span></p>\n\n<p><br />\n<span style="font-size:20px\;"><span style="color:#000000\;"><span style="font-family: arial\;">In partnership with Lancaster Promise Neighborhood\, we&rsquo\;re heading to <strong>Clinton Elementary School</strong> to help revitalize the campus with fresh landscaping\, painted basketball courts\, and more.</span></span></span></p>\n\n<p data-end="697" data-start="536"><span style="font-size:20px\;"><span style="color:#000000\;"><span style="font-family:arial\;">We&rsquo\;re challenging local businesses to send just <strong>2</strong>&nbsp\;employees to join the effort. Let&rsquo\;s show the power of our professional community when we come together for a cause.</span></span></span></p>\n\n<p data-end="827" data-start="699"><span style="font-size:20px\;"><span style="color:#000000\;"><span style="font-family:arial\;"><strong data-end="711" data-start="699">&#128197\; Date:</strong> Wednesday\, July 23rd<br data-end="728" data-start="725" />\n<strong data-end="740" data-start="728">&#128343\; Time:</strong> 8:00 AM &ndash\; 12:00 PM (subject to final confirmation)<br data-end="794" data-start="791" />\n<strong data-end="807" data-start="794">&#127849\; Perks:</strong> Breakfast provided!</span></span></span></p>\n\n<p data-end="968" data-start="829"><span style="font-size:20px\;"><span style="color:#000000\;"><span style="font-family:arial\;">Help us make a lasting impact on a school that serves our future leaders. This is your chance to give back and connect with others who care!</span></span></span></p>\n\n<p><br />\n<br />\n&nbsp\;</p>\n
LOCATION:Clinton Elementary110 Clinton School Rd\, Lancaster\, SC 29720
UID:e.506.5258
SEQUENCE:3
DTSTAMP:20260424T203410Z
URL:https://business.lancasterchambersc.org/events/details/yp-serve-lancaster-promise-neighborhood-5258
END:VEVENT

END:VCALENDAR
