BEGIN:VCALENDAR
VERSION:2.0
PRODID:-//ChamberMaster//Event Calendar 2.0//EN
METHOD:PUBLISH
X-PUBLISHED-TTL:P3D
REFRESH-INTERVAL:P3D
CALSCALE:GREGORIAN
BEGIN:VEVENT
DTSTART:20260516T123000Z
DTEND:20260516T140000Z
X-MICROSOFT-CDO-ALLDAYEVENT:FALSE
SUMMARY:United Way of Lancaster County Run for the Rose 5K
DESCRIPTION:Run for the Rose 5K through the scenic Lindsay Pettus Greenway - a beautiful boardwalk and concrete pathway along Gills Creek. You will wind around a local school and then get on the Greenway following the boardwalk until you loop at the Woodland Dr entrance to return back to the start/finish line. \n\nGrab your 90s workout attire and hit the race or fun run! 90s attire encouraged\, prizes awarded for "best dressed".\n\n\nAll proceeds benefit the United Way of Lancaster County which addresses critical community needs in the areas of Healthy Community\, Youth Opportunity\, Financial Security\, and Community Resiliency in our community. The organization funds programs in 15 local nonprofits and spearheads 9 initiatives to drive impact\, and serves as the lead agency for the Lancaster Area Coalition for the Homeless\, working to reduce homelessness in Lancaster County.
X-ALT-DESC;FMTTYPE=text/html:<!-- x-tinymce/html -->\n<h5><span style="color:#ba372a">Run for the Rose 5K through the scenic Lindsay Pettus Greenway - a beautiful boardwalk and concrete pathway along Gills Creek. You will wind around a local school and then get on the Greenway following the boardwalk until you loop at the Woodland Dr entrance to return back to the start/finish line.&nbsp\;</span></h5>\n\n<h5><span style="color:#ba372a">Grab your 90s workout attire and hit the race or fun run! 90s attire encouraged\, prizes awarded for &quot\;best dressed&quot\;.</span></h5>\n<!-- x-tinymce/html -->\n\n<h5><span style="color:#ba372a">All proceeds benefit the <a href="https://www.uwaylcsc.org/" rel="nofollow noopener noreferrer" style="color: #ba372a\;" target="_blank">United Way of Lancaster County</a> which addresses critical community needs in the areas of Healthy Community\, Youth Opportunity\, Financial Security\, and Community Resiliency in our community. The organization funds programs in 15 local nonprofits and spearheads 9 initiatives to drive impact\, and serves as the lead agency for the Lancaster Area Coalition for the Homeless\, working to reduce homelessness in Lancaster County.</span></h5>\n
LOCATION:Lindsay Pettus Greenway
UID:e.506.5458
SEQUENCE:3
DTSTAMP:20260424T022224Z
URL:https://business.lancasterchambersc.org/events/details/united-way-of-lancaster-county-run-for-the-rose-5k-05-16-2026-5458
END:VEVENT

END:VCALENDAR
