BEGIN:VCALENDAR
VERSION:2.0
PRODID:-//ChamberMaster//Event Calendar 2.0//EN
METHOD:PUBLISH
X-PUBLISHED-TTL:P3D
REFRESH-INTERVAL:P3D
CALSCALE:GREGORIAN
BEGIN:VEVENT
DTSTART:20230914T200000Z
DTEND:20230915T010000Z
X-MICROSOFT-CDO-ALLDAYEVENT:FALSE
SUMMARY:The Taste of Lancaster County
DESCRIPTION:The Lancaster County Chamber of Commerce is proud to announce The First Annual Taste of Lancaster County!\n\n \n\nWhat Is the Taste of Lancaster County?\n\nThe Taste of Lancaster County is an outdoor food event that showcases food businesses from Lancaster County and the surrounding areas. Guests enjoy diverse delectable treats\, live music\, and a kids play area. Residents of Lancaster County\, as well as many visitors\, enjoy mingling with the crowd in a festive\, fall atmosphere. This will be the first of an annual event that will be fresh and anticipated!\n\n\n\nCome out on Sept. 14th to walk around Walnut Creek Park as you grab "tastes" from local businesses! There will be a live band\, Kids Korner\, and a variety of vendors. Bring your kids\, your pets\, your family or your friends to get a Taste of Lancaster County! \n\n\n\nYou can purchase tickets online by clicking the Register button\, or you can purchase at the gate the day of the event. If you purchase tickets online\, you will receive a wristband at the entry gate by showing your online confirmation. If you purchase at the gate on September 14th\, you will receive your entry wristband there. \n\nOnline Tickets on sale soon!\n\nNow accepting Vendor Applications!\n\n\n\nIF YOU ARE AN INTERESTED FOOD VENDOR\, PLEASE EMAIL INFO@LANCASTERCHAMBERSC.COM FOR AN APPLICATION OR \n\nCLICK HERE TO DOWNLOAD\n\nFree 10x10 Spot for Chamber Members\n\n$50 for Non-Members\n\n\n\nIF YOU ARE AN INTERSTED SPONSOR\, PLEASE EMAIL JESSICA@LANCASTERCHAMBERSC.COM FOR SPONSOR INFORMATION.
X-ALT-DESC;FMTTYPE=text/html:<div style="text-align: center\;"><span style="color:#008000\;"><span style="font-size:16px\;"><strong>The Lancaster County Chamber of Commerce is proud to announce The First Annual <span style="font-size:22px\;">Taste of Lancaster County!</span></strong></span></span><br />\n&nbsp\;</div>\n\n<p --font-size:="" --line-height:="" class="_04xlpA direction-ltr align-start para-style-body" line-height:="" style="color: rgb(42\, 102\, 185)\; font-family: " yafld8skbwc=""><span class="WdYUQQ text-decoration-none text-strikethrough-none" style="font-weight: 700\;">What Is the Taste of Lancaster County?</span></p>\n\n<p --font-size:="" --line-height:="" class="_04xlpA direction-ltr align-start para-style-body" line-height:="" style="color: rgb(0\, 0\, 0)\; font-family: " yafld8skbwc=""><span class="WdYUQQ text-decoration-none text-strikethrough-none">The Taste of Lancaster County is an outdoor food event that showcases food businesses from Lancaster County and the surrounding areas. Guests enjoy diverse delectable treats\, live music\, and a kids play area. Residents of Lancaster County\, as well as many visitors\, enjoy mingling with the crowd in a festive\, fall atmosphere. This will be the first of an annual event that will be fresh and anticipated!</span><br />\n<br />\nCome out on Sept. 14th to walk around Walnut Creek Park as you grab &quot\;tastes&quot\; from local businesses! There will be a live band\, Kids Korner\, and a variety of vendors. Bring&nbsp\;your kids\, your pets\, your family or your friends to get a<span style="color:#0000CD\;"><strong><em> Taste of Lancaster County!&nbsp\;</em></strong></span><br />\n<br />\nYou can purchase tickets online by clicking the <em>Register</em> button\, or you can purchase at the gate the day of the event. If you purchase tickets online\, you will receive a wristband at the entry gate by showing your online confirmation. If you purchase at the gate on September 14th\, you will receive your entry wristband&nbsp\;there.&nbsp\;</p>\n\n<p --font-size:="" --line-height:="" class="_04xlpA direction-ltr align-start para-style-body" line-height:="" style="color: rgb(0\, 0\, 0)\; text-align: center\;" yafld8skbwc=""><strong style="color: rgb(0\, 0\, 0)\; text-align: center\;"><span style="font-size: 24px\;">Online&nbsp\;Tickets on sale soon!</span></strong><br />\n<strong><span style="font-size:24px\;">Now accepting Vendor Applications!</span></strong></p>\n\n<p --font-size:="" --line-height:="" class="_04xlpA direction-ltr align-start para-style-body" line-height:="" style="color: rgb(0\, 0\, 0)\; font-family: " yafld8skbwc=""><br />\n<span style="color:#0000CD\;"><strong><em>IF YOU ARE AN INTERESTED FOOD VENDOR\, PLEASE EMAIL INFO@LANCASTERCHAMBERSC.COM FOR AN APPLICATION OR&nbsp\;</em></strong></span><br />\n<a href="https://www.lancasterchambersc.org/assets/pdf/Taste+Vendor+Flyer/"><strong><em><span style="color:#0000FF\;"><span style="background-color:#00FF00\;">CLICK HERE TO DOWNLOAD</span></span></em></strong></a><br />\n<span style="color:#0000FF\;"><strong>Free 10x10 Spot for Chamber Members<br />\n$50 for Non-Members</strong></span><br />\n<br />\n<span style="color:#0000CD\;"><strong><em>IF YOU ARE AN INTERSTED SPONSOR\, PLEASE EMAIL JESSICA@LANCASTERCHAMBERSC.COM FOR SPONSOR INFORMATION.</em></strong></span></p>\n
LOCATION:WALNUT CREEK 10521 WALNUT CREEK PKWY INDIAN LAND\, SC 29720
UID:e.506.4935
SEQUENCE:3
DTSTAMP:20260421T121136Z
URL:https://business.lancasterchambersc.org/events/details/the-taste-of-lancaster-county-4935
END:VEVENT

END:VCALENDAR
