BEGIN:VCALENDAR
VERSION:2.0
PRODID:-//ChamberMaster//Event Calendar 2.0//EN
METHOD:PUBLISH
X-PUBLISHED-TTL:P3D
REFRESH-INTERVAL:P3D
CALSCALE:GREGORIAN
BEGIN:VEVENT
DTSTART:20260423T200000Z
DTEND:20260423T203000Z
X-MICROSOFT-CDO-ALLDAYEVENT:FALSE
SUMMARY:Ribbon Cutting: Sheltered
DESCRIPTION:Ribbon Cutting for:\n\nSheltered
X-ALT-DESC;FMTTYPE=text/html:Ribbon Cutting for:<br />\nSheltered
LOCATION:Extra parking for Sheltered ribbon cutting is across the street and in the field below the office space. Enter from Edmonds Street.
UID:e.506.5434
SEQUENCE:3
DTSTAMP:20260422T212509Z
URL:https://business.lancasterchambersc.org/events/details/ribbon-cutting-sheltered-5434
END:VEVENT

END:VCALENDAR
