BEGIN:VCALENDAR
VERSION:2.0
PRODID:-//ChamberMaster//Event Calendar 2.0//EN
METHOD:PUBLISH
X-PUBLISHED-TTL:P3D
REFRESH-INTERVAL:P3D
CALSCALE:GREGORIAN
BEGIN:VEVENT
DTSTART:20240910T200000Z
DTEND:20240910T203000Z
X-MICROSOFT-CDO-ALLDAYEVENT:FALSE
SUMMARY:Ribbon Cutting: Rooted in Grace Primary Care
DESCRIPTION:Ribbon Cutting for:\n\nRooted in Grace Primary Care
X-ALT-DESC;FMTTYPE=text/html:Ribbon Cutting for:<br />\nRooted in Grace Primary Care
LOCATION:421 W. Meeting St. Lancaster\, SC 29720
UID:e.506.5132
SEQUENCE:3
DTSTAMP:20260425T145047Z
URL:https://business.lancasterchambersc.org/events/details/ribbon-cutting-rooted-in-grace-primary-care-5132
END:VEVENT

END:VCALENDAR
