BEGIN:VCALENDAR
VERSION:2.0
PRODID:-//ChamberMaster//Event Calendar 2.0//EN
METHOD:PUBLISH
X-PUBLISHED-TTL:P3D
REFRESH-INTERVAL:P3D
CALSCALE:GREGORIAN
BEGIN:VEVENT
DTSTART:20260324T200000Z
DTEND:20260324T203000Z
X-MICROSOFT-CDO-ALLDAYEVENT:FALSE
SUMMARY:Ribbon Cutting: Lavender Flair
DESCRIPTION:Ribbon Cutting for:\n\nLavender Flair
X-ALT-DESC;FMTTYPE=text/html:Ribbon Cutting for:<br />\nLavender Flair
LOCATION:
UID:e.506.5432
SEQUENCE:3
DTSTAMP:20260424T061835Z
URL:https://business.lancasterchambersc.org/events/details/ribbon-cutting-lavender-flair-5432
END:VEVENT

END:VCALENDAR
