BEGIN:VCALENDAR
VERSION:2.0
PRODID:-//ChamberMaster//Event Calendar 2.0//EN
METHOD:PUBLISH
X-PUBLISHED-TTL:P3D
REFRESH-INTERVAL:P3D
CALSCALE:GREGORIAN
BEGIN:VEVENT
DTSTART:20240912T150000Z
DTEND:20240912T153000Z
X-MICROSOFT-CDO-ALLDAYEVENT:FALSE
SUMMARY:Ribbon Cutting: Honey Comb Salon
DESCRIPTION:Ribbon Cutting for:\n\nHoney Comb Salon
X-ALT-DESC;FMTTYPE=text/html:Ribbon Cutting for:<br />\nHoney Comb Salon
LOCATION:1129 Hwy 9 Bypass W Suite D Lancaster\, SC 29720
UID:e.506.5136
SEQUENCE:3
DTSTAMP:20260425T144129Z
URL:https://business.lancasterchambersc.org/events/details/ribbon-cutting-honey-comb-salon-5136
END:VEVENT

END:VCALENDAR
