BEGIN:VCALENDAR
VERSION:2.0
PRODID:-//ChamberMaster//Event Calendar 2.0//EN
METHOD:PUBLISH
X-PUBLISHED-TTL:P3D
REFRESH-INTERVAL:P3D
CALSCALE:GREGORIAN
BEGIN:VEVENT
DTSTART:20260522T150000Z
DTEND:20260523T033000Z
X-MICROSOFT-CDO-ALLDAYEVENT:FALSE
SUMMARY:Ribbon Cutting for Mungo Farms Meat Co.
DESCRIPTION:Ribbon Cutting\n\nMungo Farms Meat Co.
X-ALT-DESC;FMTTYPE=text/html:Ribbon Cutting<br />\nMungo Farms Meat Co.
LOCATION:3527 Rocky River Road Heath Springs\, SC 29058
UID:e.506.5456
SEQUENCE:3
DTSTAMP:20260419T131654Z
URL:https://business.lancasterchambersc.org/events/details/ribbon-cutting-for-mungo-farms-meat-co-5456
END:VEVENT

END:VCALENDAR
