BEGIN:VCALENDAR
VERSION:2.0
PRODID:-//ChamberMaster//Event Calendar 2.0//EN
METHOD:PUBLISH
X-PUBLISHED-TTL:P3D
REFRESH-INTERVAL:P3D
CALSCALE:GREGORIAN
BEGIN:VEVENT
DTSTART:20260414T150000Z
DTEND:20260414T153000Z
X-MICROSOFT-CDO-ALLDAYEVENT:FALSE
SUMMARY:Ribbon Cutting: Bennett Buildings
DESCRIPTION:Ribbon Cutting for:\n\nBennett Buildings
X-ALT-DESC;FMTTYPE=text/html:Ribbon Cutting for:<br />\nBennett Buildings
LOCATION:
UID:e.506.5433
SEQUENCE:3
DTSTAMP:20260424T042533Z
URL:https://business.lancasterchambersc.org/events/details/ribbon-cutting-bennett-buildings-5433
END:VEVENT

END:VCALENDAR
