BEGIN:VCALENDAR
VERSION:2.0
PRODID:-//ChamberMaster//Event Calendar 2.0//EN
METHOD:PUBLISH
X-PUBLISHED-TTL:P3D
REFRESH-INTERVAL:P3D
CALSCALE:GREGORIAN
BEGIN:VEVENT
DTSTART:20260505T150000Z
DTEND:20260505T160000Z
X-MICROSOFT-CDO-ALLDAYEVENT:FALSE
SUMMARY:Ribbon Cutting
DESCRIPTION:Ribbon Cutting for:\n\n111 Collective by Luna Mae Designs
X-ALT-DESC;FMTTYPE=text/html:Ribbon Cutting for:<br />\n111 Collective by Luna Mae Designs
LOCATION:111 S. White Street Lancaster\, SC 29720
UID:e.506.5457
SEQUENCE:3
DTSTAMP:20260421T203832Z
URL:https://business.lancasterchambersc.org/events/details/ribbon-cutting-5457
END:VEVENT

END:VCALENDAR
