BEGIN:VCALENDAR
VERSION:2.0
PRODID:-//ChamberMaster//Event Calendar 2.0//EN
METHOD:PUBLISH
X-PUBLISHED-TTL:P3D
REFRESH-INTERVAL:P3D
CALSCALE:GREGORIAN
BEGIN:VEVENT
DTSTART:20240822T210000Z
DTEND:20240823T000000Z
X-MICROSOFT-CDO-ALLDAYEVENT:FALSE
SUMMARY:Reel Connections: Young Professionals
DESCRIPTION:Join us for an evening of Reel Connections!\n\n \n\nCalling all young professionals for a night of networking and entertainment. \n\n\n\nWe'll kick off the evening with a casual mixer at The Office\, where you can connect with fellow peers over appetizers and drinks.\n\n\n\nAfterward\, we'll head next door to Redstone Theaters for our entertainment of the evening. \n\n \n\nFeel free to bring your colleagues and friends along for what promises to be an enjoyable night out!\n\n\n\nMovie Tickets & Appetizers = FREE\n\nDrinks & Concessions = Purchase Separately
X-ALT-DESC;FMTTYPE=text/html:<div style="text-align: center\;"><span style="color:#000000\;"><span style="font-size:18px\;"><span style="font-size:22px\;"><strong>Join us for an evening of Reel Connections!</strong></span></span></span><br />\n&nbsp\;</div>\n\n<div style="text-align: center\;"><span style="font-size:18px\;"><span style="color:#000000\;">Calling all young professionals for a night of networking and entertainment. </span></span></div>\n\n<div><br />\n<span style="font-size:18px\;"><span style="color:#000000\;">We&#39\;ll kick off the evening with a casual mixer at </span><a href="https://theofficecbk.com/"><span style="color:#0000FF\;">The Office</span></a><span style="color:#000000\;">\, where you can connect with fellow peers over appetizers and drinks.<br />\n<br />\nAfterward\, we&#39\;ll head next door to </span><a href="https://www.stonetheatres.com/"><span style="color:#0000FF\;">Redstone Theaters</span></a><span style="color:#000000\;"><a href="https://www.stonetheatres.com/"> </a>for our entertainment of the evening. </span></span><br />\n&nbsp\;</div>\n\n<div style="text-align: center\;"><span style="font-size:20px\;"><span style="color:#000000\;"><strong>Feel free to bring your colleagues and friends along for what promises to be an enjoyable night out!</strong></span></span><br />\n<br />\n<strong><span style="color:#0000CD\;">Movie Tickets &amp\; Appetizers = FREE<br />\nDrinks &amp\; Concessions = Purchase Separately</span></strong></div>\n
LOCATION:
UID:e.506.5104
SEQUENCE:3
DTSTAMP:20260425T161853Z
URL:https://business.lancasterchambersc.org/events/details/reel-connections-young-professionals-5104
END:VEVENT

END:VCALENDAR
