BEGIN:VCALENDAR
VERSION:2.0
PRODID:-//ChamberMaster//Event Calendar 2.0//EN
METHOD:PUBLISH
X-PUBLISHED-TTL:P3D
REFRESH-INTERVAL:P3D
CALSCALE:GREGORIAN
BEGIN:VEVENT
DTSTART:20240926T213000Z
DTEND:20240926T233000Z
X-MICROSOFT-CDO-ALLDAYEVENT:FALSE
SUMMARY:CANCELLED: MIX & MINGLE
DESCRIPTION:Due to the incoming hurricane Helene\, we've made the difficult decision to cancel tonight's Mix and Mingle and postpone it to a later date. \n\n\n\nWe are thrilled to host our annual Fall Mix & Mingle alongside the exceptional providers of MUSC!\n\n\n\nJoin us for an unforgettable evening filled with warmth\, community and celebration as we experience the beauty of autumn at North Corner Haven like never before!\n\n\n\nThis special event will highlight the remarkable dedication and expertise of MUSC's healthcare professionals.\n \n\nThere will be music\, exceptional farm-to-table food and networking.\n \n\nTickets are $25/members & $35/nonmembers.
X-ALT-DESC;FMTTYPE=text/html:<div style="text-align: center\;"><span style="font-size:16px\;"><span style="color:#FF0000\;"><strong>Due to the incoming hurricane Helene\, <span style="font-family:arial\,sans-serif\;">we&rsquo\;ve made the difficult decision to cancel tonight&rsquo\;s Mix and Mingle and postpone it to a later date.&nbsp\;</span></strong></span></span><br />\n<br />\n<span style="font-size: 18px\; text-align: center\; color: rgb(0\, 0\, 0)\;">We are thrilled to host our annual Fall Mix &amp\; Mingle alongside the exceptional providers of&nbsp\;</span><span style="font-size: 18px\; text-align: center\; color: rgb(0\, 0\, 205)\;">MUSC</span><span style="font-size: 18px\; text-align: center\; color: rgb(0\, 0\, 0)\;">!</span><br />\n<br />\n<span style="color: rgb(0\, 0\, 0)\; font-size: 18px\; text-align: center\;">Join us for an unforgettable evening filled with&nbsp\;warmth\, community and celebration as we e</span><span style="color:#000000\;"><span style="font-size:18px\;">xperience the beauty of autumn at&nbsp\;<strong>North Corner Haven&nbsp\;</strong>like never before!</span></span></div>\n\n<div style="text-align: center\;"><br />\n<span style="color:#000000\;"><span style="font-size:18px\;">This special event will highlight the remarkable dedication and expertise of MUSC&#39\;s healthcare professionals.</span></span></div>\n&nbsp\;\n\n<div style="text-align: center\;"><span style="color:#000000\;"><span style="font-size:18px\;">There will be music\, exceptional farm-to-table food&nbsp\;and networking.</span></span></div>\n<span style="color:#000000\;">&nbsp\;</span>\n\n<div style="text-align: center\;"><span style="color:#0000FF\;"><span style="font-size:18px\;">Tickets are $25/members &amp\; $35/nonmembers.</span></span></div>\n
LOCATION:North Corner Haven 3454 Activity Road Lancaster\, SC 29720
UID:e.506.5129
SEQUENCE:3
DTSTAMP:20260425T150728Z
URL:https://business.lancasterchambersc.org/events/details/mix-mingle-5129
END:VEVENT

END:VCALENDAR
