BEGIN:VCALENDAR
VERSION:2.0
PRODID:-//ChamberMaster//Event Calendar 2.0//EN
METHOD:PUBLISH
X-PUBLISHED-TTL:P3D
REFRESH-INTERVAL:P3D
CALSCALE:GREGORIAN
BEGIN:VEVENT
DTSTART:20241015T160000Z
DTEND:20241015T170000Z
X-MICROSOFT-CDO-ALLDAYEVENT:FALSE
SUMMARY:Lunch & Learn Series: Part 4
DESCRIPTION:Join us for our Q3 Lunch & Learn on:\n\n\n\nHacking the Hacker: An Interactive Experience\n\npresented by Security First IT.\n\n\n\nGet ready to dive into the mind of a hacker in this electrifying\, hands-on session! Experience the thrill of stepping into a hacker's shoes as you collaborate with fellow attendees to build a detailed target profile and uncover the countless ways a person can be attacked. Guided by an expert instructor\, you'll not only learn how hackers think but also actively participate in the strategy and execution of a simulated hack. This session is not just about learning - it's about living the hacker's experience in real-time!\n\n\n\nFree lunch and presentation to all Lancaster Co. Chamber members.\n\n\n\nRegistration now open!\n\n\n\nNot a Chamber member and interested in joining? Let us know!
X-ALT-DESC;FMTTYPE=text/html:<div style="text-align: center\;"><span style="color:#000000\;"><span style="font-size:20px\;">Join us for our Q3&nbsp\;Lunch &amp\; Learn&nbsp\;on:</span><br />\n<br />\n<span style="font-size:18px\;"><b><i>Hacking the Hacker: An Interactive Experience</i></b><br />\npresented by Security First IT.<br />\n<br />\nGet ready to dive into the mind of a hacker in this electrifying\, hands-on session! Experience the thrill of stepping into a hacker&#39\;s shoes as you collaborate with fellow attendees to build a detailed target profile and uncover the countless ways a person can be attacked. Guided by an expert instructor\, you&#39\;ll not only learn how hackers think but also actively participate in the strategy and execution of a simulated hack. This session is not just about learning - it&#39\;s about living the hacker&#39\;s experience in real-time!</span></span><br />\n<br />\n<span style="color:#000000\;"><span style="font-size:18px\;">Free lunch and presentation to all Lancaster Co. Chamber members.<br />\n<br />\n<strong><span style="font-size:22px\;">Registration now open!</span></strong></span></span><br />\n<br />\n<span style="text-align: center\; font-size: 18px\;"><i><span style="color:#000000\;">Not a Chamber member and interested in joining?&nbsp\;</span><a href="mailto:jessica@lancasterchambersc.com?subject=Membership%20Interest%20(Lunch%20%26%20Learn)"><span style="color:#0000FF\;">Let us know!</span></a></i></span></div>\n
LOCATION:Bradley Room 121 476-D Hubbard Dr.
UID:e.506.5082
SEQUENCE:3
DTSTAMP:20260425T194111Z
URL:https://business.lancasterchambersc.org/events/details/lunch-learn-series-part-4-5082
END:VEVENT

END:VCALENDAR
