BEGIN:VCALENDAR
VERSION:2.0
PRODID:-//ChamberMaster//Event Calendar 2.0//EN
METHOD:PUBLISH
X-PUBLISHED-TTL:P3D
REFRESH-INTERVAL:P3D
CALSCALE:GREGORIAN
BEGIN:VEVENT
DTSTART:20260626T160000Z
DTEND:20260626T170000Z
X-MICROSOFT-CDO-ALLDAYEVENT:FALSE
SUMMARY:June Lunch and Learn: “Doing the Dirty Work: Reflections of a Master Gardener”
DESCRIPTION:"Doing the Dirty Work: Reflections of a Master Gardener"\n\nClaudia Heinemann-Priest\, USC Lancaster Senior Instructor & Certified Master Gardener\n\n \n\nJoin Claudia Heinemann-Priest for a candid and engaging look at the "dirty work" behind environmental stewardship. In this presentation\, she shares her journey through the rigorous Master Gardener certification process from the classroom to the soil. Discover the challenges\, the literal heavy lifting\, and the deep satisfaction of bridging academic research with hands-on horticulture\, all while cultivating a sustainable future for our campus and community.\n\n \n\nPresented in person and virtually. To attend via Zoom\, register via this link: https://bit.ly/4tGxHsn
X-ALT-DESC;FMTTYPE=text/html:<div>&ldquo\;Doing the Dirty Work: Reflections of a Master Gardener&rdquo\;<br />\nClaudia Heinemann-Priest\, USC Lancaster Senior Instructor &amp\; Certified Master Gardener<br />\n&nbsp\;</div>\n\n<div>Join Claudia Heinemann-Priest for a candid and engaging look at the &quot\;dirty work&quot\; behind environmental stewardship. In this presentation\, she shares her journey through the rigorous Master Gardener certification process&mdash\;from the classroom to the soil. Discover the challenges\, the literal heavy lifting\, and the deep satisfaction of bridging academic research with hands-on horticulture\, all while cultivating a sustainable future for our campus and community.<br />\n&nbsp\;</div>\n\n<div>Presented in person and virtually. To attend via Zoom\, register via this link:&nbsp\;<a class="x1i10hfl xjbqb8w x1ejq31n x18oe1m7 x1sy0etr xstzfhl x972fbf x10w94by x1qhh985 x14e42zd x9f619 x1ypdohk xt0psk2 x3ct3a4 xdj266r x14z9mp xat24cr x1lziwak xexx8yu xyri2b x18d9i69 x1c1uobl x16tdsg8 x1hl2dhg xggy1nq x1a2a7pz xkrqix3 x1sur9pj x1fey0fg x1s688f" href="https://bit.ly/4tGxHsn?fbclid=IwZXh0bgNhZW0CMTAAYnJpZBExc2xtSzM1ZkVua3h6bDhBeHNydGMGYXBwX2lkEDIyMjAzOTE3ODgyMDA4OTIAAR5EP1cSEYFDmKesoTNEnG4EMsccqTRPtRntC2aifTZD5uU6kYTB6D8YBtsYFQ_aem_sV2rnPTuBhtu0WQJE38c2g" rel="nofollow noreferrer" style="color: rgb(0\, 100\, 209)\; cursor: pointer\; text-decoration: none\; outline: none\; border-inline-width: 0px\; margin-inline: 0px\; text-align: inherit\; border-inline-style: none\; padding-inline: 0px\; -webkit-tap-highlight-color: transparent\; font-weight: 600\; list-style-type: none\; box-sizing: border-box\; touch-action: manipulation\; background-color: transparent\; display: inline\; padding-bottom: 0px\; border-top-style: none\; border-bottom-width: 0px\; border-bottom-style: none\; border-top-width: 0px\; margin-bottom: 0px\; margin-top: 0px\; padding-top: 0px\; font-family: inherit\;" tabindex="0" target="_blank">https://bit.ly/4tGxHsn</a></div>\n
LOCATION:Native American Studies Center 119 S. Main St. Lancaster\, SC 29720
UID:e.506.5459
SEQUENCE:3
DTSTAMP:20260423T234059Z
URL:https://business.lancasterchambersc.org/events/details/june-lunch-and-learn-doing-the-dirty-work-reflections-of-a-master-gardener-5459
END:VEVENT

END:VCALENDAR
