BEGIN:VCALENDAR
VERSION:2.0
PRODID:-//ChamberMaster//Event Calendar 2.0//EN
METHOD:PUBLISH
X-PUBLISHED-TTL:P3D
REFRESH-INTERVAL:P3D
CALSCALE:GREGORIAN
BEGIN:VEVENT
DTSTART:20240919T213000Z
DTEND:20240919T230000Z
X-MICROSOFT-CDO-ALLDAYEVENT:FALSE
SUMMARY:Give Local! Business After Hours
DESCRIPTION:Join the Arras Foundation at the Crescent to learn more about the 2024 Give Local campaign and how you and your business can get involved!\n\n\n\nMingle with fellow Chamber members and connect with nonprofit community partners to be part of their vision for a healthier community for all in Lancaster and Chester Counties.\n\n\n\nHeavy hors d'oeuvres will be served by Alexander and Company Catering!
X-ALT-DESC;FMTTYPE=text/html:<div style="text-align: center\;"><span style="font-size:18px\;"><span style="color:#000000\;">Join the</span> <a href="https://arrasfoundation.org/">Arras Foundation</a> <span style="color:#000000\;">at the Crescent to learn more about the 2024 Give Local campaign and how you&nbsp\;<strong><em>and</em></strong>&nbsp\;your business can get involved!<br />\n<br />\nMingle with fellow Chamber members and connect with nonprofit community partners to be part of their vision for a healthier community for all in Lancaster and Chester Counties.<br />\n<br />\nHeavy hors d&#39\;oeuvres&nbsp\;will be served by <a href="https://business.lancasterchambersc.org/list/Member/alexander-and-company-catering-1362">Alexander and Company Catering</a>!</span></span></div>\n
LOCATION:The Crescent 601 N. Main St\, Lancaster SC 29720
UID:e.506.5103
SEQUENCE:3
DTSTAMP:20260425T145850Z
URL:https://business.lancasterchambersc.org/events/details/give-local-business-after-hours-5103
END:VEVENT

END:VCALENDAR
