BEGIN:VCALENDAR
VERSION:2.0
PRODID:-//ChamberMaster//Event Calendar 2.0//EN
METHOD:PUBLISH
X-PUBLISHED-TTL:P3D
REFRESH-INTERVAL:P3D
CALSCALE:GREGORIAN
BEGIN:VEVENT
DTSTART:20241107T160000Z
DTEND:20241107T183000Z
X-MICROSOFT-CDO-ALLDAYEVENT:FALSE
SUMMARY:Connect for a Cause: A Board and Volunteer YP Expo
DESCRIPTION:Join us at Connect for a Cause: A Board and Volunteer YP Expo\n\nDrop-In!\n\n \n\nThis exciting event is designed to connect young professionals with local nonprofits and allows these individuals to explore a variety of organizations that are making a difference in our community.\n\n\n\nYPs: As you visit each booth\, you'll learn about the missions\, volunteer opportunities\, and board positions available with these impactful nonprofits. We are certain there's a place for you to contribute your skills and expertise and we hope you make this connection at this event.\n\n\n\nCome ready to be inspired and find the perfect fit for your talents and interest as emerging leaders in our community!\n\n\n\nFREE Lunch is included!\n\n\n\nThis is a drop-in event! Drop by whenever you can\, stay as long as you'd like and grab lunch to go if you're short on time!
X-ALT-DESC;FMTTYPE=text/html:<div style="text-align: center\;"><span style="color:#000000\;"><span style="font-size:18px\;"><span style="font-size:22px\;"><strong>Join us at</strong> <strong>Connect for a Cause: A&nbsp\;Board and Volunteer YP Expo<br />\nDrop-In!</strong></span></span></span><br />\n&nbsp\;</div>\n\n<div style="text-align: center\;"><font color="#000000"><span style="font-size: 18px\;">This exciting event is designed to connect young professionals with local nonprofits and allows these individuals to explore a variety of organizations that are making a difference in our community.<br />\n<br />\n<strong>YP</strong>s: As you visit each booth\, you&#39\;ll learn about the missions\, volunteer opportunities\, and board positions available with these impactful nonprofits. We are certain there&#39\;s a place for you&nbsp\;to contribute your skills and expertise and we hope you make this connection at this event.<br />\n<br />\n<strong>Come ready to be inspired and find the perfect fit for your talents and interest as emerging leaders in our community!<br />\n<br />\n<u>FREE Lunch is included!</u></strong></span></font><br />\n<br />\n<span style="color:#0000FF\;"><span style="font-size: 18px\;"><strong><span style="font-size:22px\;">This is a drop-in event! Drop by whenever you can\, stay as long as you&#39\;d like and grab lunch to go if you&#39\;re short on time!</span></strong></span></span></div>\n
LOCATION:Springdale Recreation Center 260 S. Plantation Rd\, Lancaster SC 29720
UID:e.506.5135
SEQUENCE:3
DTSTAMP:20260425T174613Z
URL:https://business.lancasterchambersc.org/events/details/connect-for-a-cause-a-board-and-volunteer-yp-expo-5135
END:VEVENT

END:VCALENDAR
