BEGIN:VCALENDAR
VERSION:2.0
PRODID:-//ChamberMaster//Event Calendar 2.0//EN
METHOD:PUBLISH
X-PUBLISHED-TTL:P3D
REFRESH-INTERVAL:P3D
CALSCALE:GREGORIAN
BEGIN:VEVENT
DTSTART:20241212T223000Z
DTEND:20241213T003000Z
X-MICROSOFT-CDO-ALLDAYEVENT:FALSE
SUMMARY:Christmas Mix & Jingle
DESCRIPTION:On behalf of the Lancaster County Chamber of Commerce\, Lancaster County Council of the Arts and the City of Lancaster\, we formally invite you to join us for our annual Christmas Mix & Jingle!\n\n \n\nDue to popularity\, our location has changed to the Cultural Arts Center!\n\n\n\nGuests can enjoy the beauty of one of Lancaster County's most beloved landmarks dating back to 1862!\n\n\n\n Pleas join us for an evening of Christmas festivities and delicious cuisine catered by Alexander Company and Catering.\n\n\n\nAnd don't forget to bring cash for raffle prizes! You just might win yourself\, or a loved one\, a fantastic gift to go under your tree!\n\n\n\nBring your holiday spirit and come ready to mingle\, connect and celebrate with the community.\n\n\n\nRegistration is now full!
X-ALT-DESC;FMTTYPE=text/html:<div style="text-align: center\;"><span style="font-size:20px\;"><strong><span style="font-size: 18px\;"><font color="#000000">On behalf of the&nbsp\;Lancaster County Chamber of Commerce\, Lancaster County Council of the Arts&nbsp\;and the City of Lancaster\, we formally invite you to join us for our annual</font>&nbsp\;</span><span style="color:#FF0000\;">Christmas Mix &amp\; Jingle</span>!</strong></span><br />\n&nbsp\;</div>\n\n<div style="text-align: center\;"><span style="color:#000000\;"><span style="font-size:18px\;">Due to popularity\, our location has changed to the <strong>Cultural Arts Center!</strong></span></span><br />\n<br />\n<span style="color: rgb(0\, 0\, 0)\; font-size: 18px\; text-align: center\;">Guests can enjoy the beauty of one of Lancaster County&#39\;s most beloved landmarks dating back to 1862!</span><br />\n<br />\n<span style="color:#000000\;"><span style="font-size:18px\;">&nbsp\;Pleas join us for an evening of Christmas festivities and delicious cuisine catered by <strong><a href="https://business.lancasterchambersc.org/list/member/alexander-and-company-catering-1362">Alexander Company and Catering</a></strong>.<br />\n<br />\nAnd don&#39\;t forget to bring <strong>cash </strong>for raffle prizes! You just might win yourself\, or a loved one\, a fantastic gift to go under your tree!<br />\n<br />\nBring your holiday spirit and come ready to mingle\, connect and celebrate with the community.</span></span><br />\n<br />\n<span style="color:#FF0000\;"><span style="font-size:18px\;"><strong>Registration is now full!</strong></span></span></div>\n<br />\n&nbsp\;
LOCATION:LOCATION CHANGE Cultural Arts Center 307 West Gay Street Lancaster\, SC 29720
UID:e.506.5031
SEQUENCE:3
DTSTAMP:20260425T112947Z
URL:https://business.lancasterchambersc.org/events/details/christmas-mix-jingle-5031
END:VEVENT

END:VCALENDAR
