BEGIN:VCALENDAR
VERSION:2.0
PRODID:-//ChamberMaster//Event Calendar 2.0//EN
METHOD:PUBLISH
X-PUBLISHED-TTL:P3D
REFRESH-INTERVAL:P3D
CALSCALE:GREGORIAN
BEGIN:VEVENT
DTSTART:20240917T220000Z
DTEND:20240918T000000Z
X-MICROSOFT-CDO-ALLDAYEVENT:FALSE
SUMMARY:Before You Vote - 2024 Candidates Forum: Indian Land
DESCRIPTION:The Lancaster County Chamber of Commerce and The Lancaster News are thrilled to host two upcoming Candidate Forums\, designed to provide candidates running for various local\, state\, and federal offices the opportunity to highlight their platforms.\nThese forums will feature a diverse group of candidates\, providing voters a valuable opportunity to hear directly from those seeking office. \n\n \n\nThe Indian Land forum will feature candidates for:\n\nLancaster County Council\n\nSC House District 44\n\nand SC Senate Districts 16 and 17 \n\nYour voice matters! Questions for candidates will be sourced from the public. This is a unique opportunity to directly engage with the candidates and address the issues that matter most to you and our community. Click here to submit your questions! \n\nThe Lancaster County Chamber of Commerce and The Lancaster News are dedicated to fostering community growth and providing meaningful opportunities for public engagement in the democratic process. \n\n \n\nWe look forward to welcoming you to these forums!
X-ALT-DESC;FMTTYPE=text/html:<span style="font-size:18px\;"><span style="font-family:arial\;"><span style="color:#000000\;">The </span><span style="color:#0000CD\;"><strong>Lancaster County Chamber of Commerce</strong> </span><span style="color:#000000\;">and </span><strong><span style="color:#0000CD\;">The Lancaster News</span></strong><span style="color:#000000\;"> are thrilled to host two upcoming Candidate Forums\, designed to provide candidates running for various local\, state\, and federal offices the opportunity to highlight their platforms.</span></span></span>\n<p><span style="font-size:18px\;"><span style="font-family:arial\;"><span style="color:#000000\;">These forums will feature a diverse group of candidates\, providing voters a valuable opportunity to hear directly from those seeking office. </span></span></span><br />\n&nbsp\;</p>\n\n<p style="text-align: center\;"><span style="font-size:18px\;"><span style="font-family:arial\;"><span style="color:#000000\;"><strong>The Indian Land forum will feature candidates for:<br />\nLancaster County Council<br />\nSC House District 44<br />\nand SC Senate Districts 16 and 17&nbsp\;</strong></span></span></span></p>\n\n<p><font color="#000000" face="arial"><span style="font-size: 18px\;"><strong>Your voice matters!</strong>&nbsp\;Questions for candidates will be sourced from the public. This is a unique opportunity to directly engage with the candidates and address the issues that matter most to you and our community. </span></font><font face="arial"><span style="font-size: 18px\;"><strong><a href="https://business.lancasterchambersc.org/form/view/33609"><span style="color:#0000FF\;">Click here to submit your questions!&nbsp\;</span></a></strong></span></font></p>\n\n<p><span style="font-size:18px\;"><span style="font-family:arial\;"><span style="color:#000000\;">The Lancaster County Chamber of Commerce and The Lancaster News are dedicated to fostering community growth and providing meaningful opportunities for public engagement in the democratic process. </span></span></span><br />\n&nbsp\;</p>\n\n<p style="text-align: center\;"><span style="font-size:18px\;"><span style="font-family:arial\;"><span style="color:#000000\;"><strong>We look forward to welcoming you to these forums!</strong></span></span></span></p>\n
LOCATION:CrossRidge Auditorium 2001 Parkway Dr Indian Land\, SC 29707
UID:e.506.5098
SEQUENCE:3
DTSTAMP:20260425T163149Z
URL:https://business.lancasterchambersc.org/events/details/before-you-vote-2024-candidates-forum-indian-land-5098
END:VEVENT

END:VCALENDAR
