BEGIN:VCALENDAR
VERSION:2.0
PRODID:-//ChamberMaster//Event Calendar 2.0//EN
METHOD:PUBLISH
X-PUBLISHED-TTL:P3D
REFRESH-INTERVAL:P3D
CALSCALE:GREGORIAN
BEGIN:VEVENT
DTSTART:20240710T150000Z
DTEND:20240710T160000Z
X-MICROSOFT-CDO-ALLDAYEVENT:FALSE
SUMMARY:Ambassador Meeting
DESCRIPTION:Our Lancaster County Chamber of Commerce Ambassadors meet quarterly in person for a lunch meeting.\n\n\n\nClick here to learn more about our Ambassador program!
X-ALT-DESC;FMTTYPE=text/html:<span style="font-size:18px\;"><span style="color:#000000\;">Our Lancaster County Chamber of Commerce Ambassadors meet quarterly in person for a lunch meeting.<br />\n<br />\nClick<strong> </strong></span><u><a href="https://www.lancasterchambersc.org/ambassadors/"><span style="color:#0000CD\;"><strong>here</strong></span></a></u><span style="color:#0000CD\;">&nbsp\;</span><span style="color:#000000\;">to learn more about our Ambassador program!</span></span>
LOCATION:
UID:e.506.5004
SEQUENCE:3
DTSTAMP:20260425T180137Z
URL:https://business.lancasterchambersc.org/events/details/ambassador-meeting-5004
END:VEVENT

END:VCALENDAR
